BEGIN:VCALENDAR
VERSION:2.0
PRODID:-//Coit Road Farmers Market - ECPv6.15.20//NONSGML v1.0//EN
CALSCALE:GREGORIAN
METHOD:PUBLISH
X-WR-CALNAME:Coit Road Farmers Market
X-ORIGINAL-URL:https://www.coitmarket.org
X-WR-CALDESC:Events for Coit Road Farmers Market
REFRESH-INTERVAL;VALUE=DURATION:PT1H
X-Robots-Tag:noindex
X-PUBLISHED-TTL:PT1H
BEGIN:VTIMEZONE
TZID:UTC
BEGIN:STANDARD
TZOFFSETFROM:+0000
TZOFFSETTO:+0000
TZNAME:UTC
DTSTART:20210101T000000
END:STANDARD
END:VTIMEZONE
BEGIN:VEVENT
DTSTART;TZID=UTC:20221217T080000
DTEND;TZID=UTC:20221217T130000
DTSTAMP:20260419T135548
CREATED:20221215T161737Z
LAST-MODIFIED:20221215T161737Z
UID:1294-1671264000-1671282000@www.coitmarket.org
SUMMARY:All About Knives!
DESCRIPTION:Learn all about knives from\, forging to sharpening\, to choosing & using. New and used and handmade knives for sale. Bring your knives for sharpening and assessment. Buy sell\, trade\, haggle\, fun!  Hosted by Knivhugga: https://www.facebook.com/knivhugga
URL:https://www.coitmarket.org/event/all-about-knives/
ATTACH;FMTTYPE=image/jpeg:https://www.coitmarket.org/wp-content/uploads/2022/12/unnamed.jpg
ORGANIZER;CN="Kevin Scheuring":MAILTO:coit.twitter2@gmail.com
END:VEVENT
END:VCALENDAR