BEGIN:VCALENDAR
VERSION:2.0
PRODID:-//Coit Road Farmers Market - ECPv6.15.20//NONSGML v1.0//EN
CALSCALE:GREGORIAN
METHOD:PUBLISH
X-WR-CALNAME:Coit Road Farmers Market
X-ORIGINAL-URL:https://www.coitmarket.org
X-WR-CALDESC:Events for Coit Road Farmers Market
REFRESH-INTERVAL;VALUE=DURATION:PT1H
X-Robots-Tag:noindex
X-PUBLISHED-TTL:PT1H
BEGIN:VTIMEZONE
TZID:UTC
BEGIN:STANDARD
TZOFFSETFROM:+0000
TZOFFSETTO:+0000
TZNAME:UTC
DTSTART:20210101T000000
END:STANDARD
END:VTIMEZONE
BEGIN:VEVENT
DTSTART;TZID=UTC:20220305T110000
DTEND;TZID=UTC:20220305T120000
DTSTAMP:20260419T140348
CREATED:20211111T205643Z
LAST-MODIFIED:20211111T205643Z
UID:1057-1646478000-1646481600@www.coitmarket.org
SUMMARY:Spaetzle demo
DESCRIPTION:Learn how to make this traditional German side dish. Spaetzle is easy\, quick\, and delicious. We will have several apparatuses that can be used to make these tine dumplings including a press and a board.
URL:https://www.coitmarket.org/event/spaetzle-demo/
LOCATION:Coit Road Farmers Market\, 15000 Woodworth Ave.\, East Cleveland\, OH\, 44110\, United States
ATTACH;FMTTYPE=image/jpeg:https://www.coitmarket.org/wp-content/uploads/2021/11/spaetzle-5.jpeg
ORGANIZER;CN="Kevin Scheuring":MAILTO:coit.twitter2@gmail.com
END:VEVENT
BEGIN:VEVENT
DTSTART;TZID=UTC:20220312T110000
DTEND;TZID=UTC:20220312T120000
DTSTAMP:20260419T140348
CREATED:20211111T210319Z
LAST-MODIFIED:20211111T210319Z
UID:1060-1647082800-1647086400@www.coitmarket.org
SUMMARY:Mozzarela demo
DESCRIPTION:Learn how to make this easy cheese at home! We will show you how to curdle the milk\, knead it\, and separate it into fresh mozzarella balls. These can be aged further\, smoked\, or used the same day. This can be done with many kinds of milk and you can create some really interesting dishes with this cheese which we will also be discussing.
URL:https://www.coitmarket.org/event/mozzarela-demo/
LOCATION:Coit Road Farmers Market\, 15000 Woodworth Ave.\, East Cleveland\, OH\, 44110\, United States
ATTACH;FMTTYPE=image/jpeg:https://www.coitmarket.org/wp-content/uploads/2021/11/fresh-mozzerela.jpeg
ORGANIZER;CN="Kevin Scheuring":MAILTO:coit.twitter2@gmail.com
END:VEVENT
BEGIN:VEVENT
DTSTART;TZID=UTC:20220319T110000
DTEND;TZID=UTC:20220319T120000
DTSTAMP:20260419T140348
CREATED:20211111T210922Z
LAST-MODIFIED:20211111T210922Z
UID:1063-1647687600-1647691200@www.coitmarket.org
SUMMARY:Ravioli demo
DESCRIPTION:Learn how to make pasta dough from scratch and create a filling for your own ravioli. We will be using a pasta machine to roll out the dough and send you home with an easy recipe to make this surprisingly easy dish. Ravioli is easy to freeze and is always a crowd favorite.
URL:https://www.coitmarket.org/event/ravioli-demo/
LOCATION:Coit Road Farmers Market\, 15000 Woodworth Ave.\, East Cleveland\, OH\, 44110\, United States
ATTACH;FMTTYPE=image/jpeg:https://www.coitmarket.org/wp-content/uploads/2021/11/ravioli.jpeg
ORGANIZER;CN="Kevin Scheuring":MAILTO:coit.twitter2@gmail.com
END:VEVENT
BEGIN:VEVENT
DTSTART;TZID=UTC:20220326T110000
DTEND;TZID=UTC:20220326T120000
DTSTAMP:20260419T140348
CREATED:20211111T211731Z
LAST-MODIFIED:20211111T211731Z
UID:1066-1648292400-1648296000@www.coitmarket.org
SUMMARY:Paneer demo
DESCRIPTION:Learn how to make this easy Asian cheese. Paneer does not melt when cooked and is commonly used in curries. We will learn the process of making this cheese as well as some eastern and western recipes.
URL:https://www.coitmarket.org/event/paneer-demo/
LOCATION:Coit Road Farmers Market\, 15000 Woodworth Ave.\, East Cleveland\, OH\, 44110\, United States
ATTACH;FMTTYPE=image/jpeg:https://www.coitmarket.org/wp-content/uploads/2021/11/Homemade_Paneer_Recipe_14-scaled.jpeg
ORGANIZER;CN="Kevin Scheuring":MAILTO:coit.twitter2@gmail.com
END:VEVENT
END:VCALENDAR