BEGIN:VCALENDAR
VERSION:2.0
PRODID:-//Coit Road Farmers Market - ECPv6.15.20//NONSGML v1.0//EN
CALSCALE:GREGORIAN
METHOD:PUBLISH
X-WR-CALNAME:Coit Road Farmers Market
X-ORIGINAL-URL:https://www.coitmarket.org
X-WR-CALDESC:Events for Coit Road Farmers Market
REFRESH-INTERVAL;VALUE=DURATION:PT1H
X-Robots-Tag:noindex
X-PUBLISHED-TTL:PT1H
BEGIN:VTIMEZONE
TZID:UTC
BEGIN:STANDARD
TZOFFSETFROM:+0000
TZOFFSETTO:+0000
TZNAME:UTC
DTSTART:20210101T000000
END:STANDARD
END:VTIMEZONE
BEGIN:VEVENT
DTSTART;TZID=UTC:20220205T110000
DTEND;TZID=UTC:20220205T120000
DTSTAMP:20260419T134839
CREATED:20211111T194025Z
LAST-MODIFIED:20211111T194025Z
UID:1045-1644058800-1644062400@www.coitmarket.org
SUMMARY:Kombucha Demo
DESCRIPTION:We are kicking off fermentation in February with a kombucha demo so you can make this ancient probiotic drink at home. Called the elixir of life in some cultures\, kombucha is a delicious fermented beverage that does wonders for gut health. It is easy and inexpensive to make\, and when you make it at home you have the opportunity to get really creative with flavours!
URL:https://www.coitmarket.org/event/kombucha-demo/
LOCATION:Coit Road Farmers Market\, 15000 Woodworth Ave.\, East Cleveland\, OH\, 44110\, United States
ATTACH;FMTTYPE=image/jpeg:https://www.coitmarket.org/wp-content/uploads/2021/11/kombucha.jpeg
ORGANIZER;CN="Ursula McVey":MAILTO:ursulamcvey@gmail.com
END:VEVENT
BEGIN:VEVENT
DTSTART;TZID=UTC:20220212T110000
DTEND;TZID=UTC:20220212T120000
DTSTAMP:20260419T134839
CREATED:20211111T195201Z
LAST-MODIFIED:20211111T195201Z
UID:1048-1644663600-1644667200@www.coitmarket.org
SUMMARY:Sauerkraut demo
DESCRIPTION:Learn how to make this European staple the old-fashioned way! Sauerkraut is a healthy probiotic that is great raw or cooked. We will learn how to make it and will discuss recipes and ways to incorporate sauerkraut into more meals. Homemade sauerkraut has a complex flavour that is very different from the acidity of store-bought sauerkraut. Once you taste the difference you won’t want to go back!
URL:https://www.coitmarket.org/event/sauerkraut-demo/
LOCATION:Coit Road Farmers Market\, 15000 Woodworth Ave.\, East Cleveland\, OH\, 44110\, United States
ATTACH;FMTTYPE=image/jpeg:https://www.coitmarket.org/wp-content/uploads/2021/11/sauerkraut.jpeg
ORGANIZER;CN="Ursula McVey":MAILTO:ursulamcvey@gmail.com
END:VEVENT
BEGIN:VEVENT
DTSTART;TZID=UTC:20220219T110000
DTEND;TZID=UTC:20220219T120000
DTSTAMP:20260419T134839
CREATED:20211111T200540Z
LAST-MODIFIED:20211111T200540Z
UID:1051-1645268400-1645272000@www.coitmarket.org
SUMMARY:Vinegar demo
DESCRIPTION:Learn how to turn fruit scraps into vinegar! This is a great way to use all the apple cores\, or pineapple rinds\, or strawberry tops for something useful before they go into the compost. In this class\, you will learn how to make delicious\, unusual vinegar that can be used in dressings\, marinades\, cocktails in place of citrus or reduced down to create a delicious glaze for fish or cheese. The possibilities are endless. We will also discuss how to make fermented herbal vinegar and other recipes that fruit vinegar can be used in. This class will be a lot of fun!
URL:https://www.coitmarket.org/event/vinegar-demo/
LOCATION:Coit Road Farmers Market\, 15000 Woodworth Ave.\, East Cleveland\, OH\, 44110\, United States
ATTACH;FMTTYPE=image/jpeg:https://www.coitmarket.org/wp-content/uploads/2021/11/ACV.jpeg
ORGANIZER;CN="Ursula McVey":MAILTO:ursulamcvey@gmail.com
END:VEVENT
BEGIN:VEVENT
DTSTART;TZID=UTC:20220226T110000
DTEND;TZID=UTC:20220226T120000
DTSTAMP:20260419T134839
CREATED:20211111T203944Z
LAST-MODIFIED:20211111T203944Z
UID:1054-1645873200-1645876800@www.coitmarket.org
SUMMARY:Sake demo
DESCRIPTION:Learn how to make your own Sake at home! This delicious probiotic beverage is a favorite at parties. Impress your friends and create a truly delicious drink. Sake develops seriously complex flavors and tastes fruity\, floral\, and sweet. It is astonishing that koji can create all those flavors from simple rice! Learn how to ferment this beverage\, different variations\, how and when to press the sake out of the rice\, and the process and daily routine of fermenting wine. This is a class you don’t want to miss!
URL:https://www.coitmarket.org/event/sake-demo/
LOCATION:Coit Road Farmers Market\, 15000 Woodworth Ave.\, East Cleveland\, OH\, 44110\, United States
ATTACH;FMTTYPE=image/jpeg:https://www.coitmarket.org/wp-content/uploads/2021/11/Sake.jpg
ORGANIZER;CN="Ursula McVey":MAILTO:ursulamcvey@gmail.com
END:VEVENT
END:VCALENDAR