BEGIN:VCALENDAR
VERSION:2.0
PRODID:-//Coit Road Farmers Market - ECPv6.15.20//NONSGML v1.0//EN
CALSCALE:GREGORIAN
METHOD:PUBLISH
X-ORIGINAL-URL:https://www.coitmarket.org
X-WR-CALDESC:Events for Coit Road Farmers Market
REFRESH-INTERVAL;VALUE=DURATION:PT1H
X-Robots-Tag:noindex
X-PUBLISHED-TTL:PT1H
BEGIN:VTIMEZONE
TZID:UTC
BEGIN:STANDARD
TZOFFSETFROM:+0000
TZOFFSETTO:+0000
TZNAME:UTC
DTSTART:20200101T000000
END:STANDARD
END:VTIMEZONE
BEGIN:VEVENT
DTSTART;TZID=UTC:20211204T100000
DTEND;TZID=UTC:20211204T110000
DTSTAMP:20260419T135129
CREATED:20211129T153027Z
LAST-MODIFIED:20211129T153256Z
UID:1111-1638612000-1638615600@www.coitmarket.org
SUMMARY:Scheduling for Vegetable Seeding\,
DESCRIPTION:Learn when and how to schedule seeding and transplanting for next year’s vegetable garden and be prepared to buy seeds this winter before your favorite varieties run out!
URL:https://www.coitmarket.org/event/scheduling-for-vegetable-seeding/
LOCATION:Coit Road Farmers Market\, 15000 Woodworth Ave.\, East Cleveland\, OH\, 44110\, United States
END:VEVENT
BEGIN:VEVENT
DTSTART;TZID=UTC:20211204T110000
DTEND;TZID=UTC:20211204T120000
DTSTAMP:20260419T135129
CREATED:20211107T161620Z
LAST-MODIFIED:20211107T161620Z
UID:1013-1638615600-1638619200@www.coitmarket.org
SUMMARY:Pasta Demo
DESCRIPTION:This is a crowd favorite! Kevin will be demonstrating how to make pasta dough\, feed it through a pasta machine\, and either cook it or dry it. You don’t want to miss this one!
URL:https://www.coitmarket.org/event/pasta-demo/
LOCATION:Coit Road Farmers Market\, 15000 Woodworth Ave.\, East Cleveland\, OH\, 44110\, United States
ATTACH;FMTTYPE=image/jpeg:https://www.coitmarket.org/wp-content/uploads/2021/11/Pasta-Maker-Machines.jpeg
END:VEVENT
BEGIN:VEVENT
DTSTART;TZID=UTC:20211211T110000
DTEND;TZID=UTC:20211211T120000
DTSTAMP:20260419T135129
CREATED:20211107T163339Z
LAST-MODIFIED:20211107T163339Z
UID:1016-1639220400-1639224000@www.coitmarket.org
SUMMARY:Gravy Demo
DESCRIPTION:Never use store-bought gravy again! In this demo\, we will learn how to use the drippings from roasted meat to create a low salt\, healthy\, delicious gravy out of what would otherwise be getting thrown away.
URL:https://www.coitmarket.org/event/gravy-demo/
LOCATION:Coit Road Farmers Market\, 15000 Woodworth Ave.\, East Cleveland\, OH\, 44110\, United States
ATTACH;FMTTYPE=image/jpeg:https://www.coitmarket.org/wp-content/uploads/2021/11/gravy.jpeg
ORGANIZER;CN="Kevin Scheuring":MAILTO:coit.twitter2@gmail.com
END:VEVENT
BEGIN:VEVENT
DTSTART;TZID=UTC:20211218T080000
DTEND;TZID=UTC:20211218T170000
DTSTAMP:20260419T135129
CREATED:20211107T164734Z
LAST-MODIFIED:20211107T164734Z
UID:1020-1639814400-1639846800@www.coitmarket.org
SUMMARY:Tunnel boning a turkey
DESCRIPTION:Have you ever wanted to try turducken? In this demo\, Kevin will show us how to tunnel bone a turkey\, or remove all the bones from the center while leaving the actual bird intact. This can be used to make many dishes besides turducken. Come out and learn some knife skills!
URL:https://www.coitmarket.org/event/tunnel-boning-a-turkey/
LOCATION:Coit Road Farmers Market\, 15000 Woodworth Ave.\, East Cleveland\, OH\, 44110\, United States
ATTACH;FMTTYPE=image/jpeg:https://www.coitmarket.org/wp-content/uploads/2021/11/turducken01.jpeg
ORGANIZER;CN="Kevin Scheuring":MAILTO:coit.twitter2@gmail.com
END:VEVENT
BEGIN:VEVENT
DTSTART;TZID=UTC:20211222T080000
DTEND;TZID=UTC:20211222T130000
DTSTAMP:20260419T135129
CREATED:20211107T164915Z
LAST-MODIFIED:20211107T164915Z
UID:1023-1640160000-1640178000@www.coitmarket.org
SUMMARY:Wednesday Market
DESCRIPTION:We are open on Wednesday today! Come on out and get your holiday shopping done.
URL:https://www.coitmarket.org/event/wednesday-market-3/
LOCATION:Coit Road Farmers Market\, 15000 Woodworth Ave.\, East Cleveland\, OH\, 44110\, United States
END:VEVENT
BEGIN:VEVENT
DTSTART;TZID=UTC:20211225T080000
DTEND;TZID=UTC:20211225T130000
DTSTAMP:20260419T135129
CREATED:20211107T165029Z
LAST-MODIFIED:20211107T165029Z
UID:1025-1640419200-1640437200@www.coitmarket.org
SUMMARY:Closed today
DESCRIPTION:We are closed today. Merry Christmass!
URL:https://www.coitmarket.org/event/closed-today/
LOCATION:Coit Road Farmers Market\, 15000 Woodworth Ave.\, East Cleveland\, OH\, 44110\, United States
END:VEVENT
BEGIN:VEVENT
DTSTART;TZID=UTC:20211229T080000
DTEND;TZID=UTC:20211229T130000
DTSTAMP:20260419T135129
CREATED:20211107T165504Z
LAST-MODIFIED:20211107T165504Z
UID:1028-1640764800-1640782800@www.coitmarket.org
SUMMARY:Wednesday Market
DESCRIPTION:We are open today for your holiday shopping!
URL:https://www.coitmarket.org/event/wednesday-market-4/
LOCATION:Coit Road Farmers Market\, 15000 Woodworth Ave.\, East Cleveland\, OH\, 44110\, United States
END:VEVENT
END:VCALENDAR