BEGIN:VCALENDAR
VERSION:2.0
PRODID:-//Coit Road Farmers Market - ECPv6.15.20//NONSGML v1.0//EN
CALSCALE:GREGORIAN
METHOD:PUBLISH
X-ORIGINAL-URL:https://www.coitmarket.org
X-WR-CALDESC:Events for Coit Road Farmers Market
REFRESH-INTERVAL;VALUE=DURATION:PT1H
X-Robots-Tag:noindex
X-PUBLISHED-TTL:PT1H
BEGIN:VTIMEZONE
TZID:UTC
BEGIN:STANDARD
TZOFFSETFROM:+0000
TZOFFSETTO:+0000
TZNAME:UTC
DTSTART:20220101T000000
END:STANDARD
END:VTIMEZONE
BEGIN:VEVENT
DTSTART;TZID=UTC:20230311T080000
DTEND;TZID=UTC:20230311T130000
DTSTAMP:20260419T201118
CREATED:20230227T170245Z
LAST-MODIFIED:20230227T183846Z
UID:1430-1678521600-1678539600@www.coitmarket.org
SUMMARY:Beginning Farmer Program: Registration Information Event! 1 year of free farm training 
DESCRIPTION:  \n  \nCentral State University Extension  and the Coit Road Farmers Market offer a beginning farmer program\, for aspiring farmers interested in starting their own farm business. The program is designed to provide one growing season of classes beginning during April with a hands-on demonstration farm site at the Market. Email coit.twitter2@gmail.com or text 440-376-9448 for an application.   
URL:https://www.coitmarket.org/event/beginning-farmer-program-register-for-1-year-of-free-training/
CATEGORIES:Farmers Training
ATTACH;FMTTYPE=image/jpeg:https://www.coitmarket.org/wp-content/uploads/2023/02/Oct_31_2022_10_45_10_1.jpg
END:VEVENT
END:VCALENDAR