BEGIN:VCALENDAR
VERSION:2.0
PRODID:-//Coit Road Farmers Market - ECPv6.15.20//NONSGML v1.0//EN
CALSCALE:GREGORIAN
METHOD:PUBLISH
X-ORIGINAL-URL:https://www.coitmarket.org
X-WR-CALDESC:Events for Coit Road Farmers Market
REFRESH-INTERVAL;VALUE=DURATION:PT1H
X-Robots-Tag:noindex
X-PUBLISHED-TTL:PT1H
BEGIN:VTIMEZONE
TZID:UTC
BEGIN:STANDARD
TZOFFSETFROM:+0000
TZOFFSETTO:+0000
TZNAME:UTC
DTSTART:20220101T000000
END:STANDARD
END:VTIMEZONE
BEGIN:VEVENT
DTSTART;TZID=UTC:20230218T110000
DTEND;TZID=UTC:20230218T130000
DTSTAMP:20260419T183131
CREATED:20230205T135038Z
LAST-MODIFIED:20230205T135206Z
UID:1393-1676718000-1676725200@www.coitmarket.org
SUMMARY:February 18th 11:00 am: Choosing a Knife for Food Prep by Kevin Scheuring
DESCRIPTION:Ever wondered what knife your supposed to be using to cut up that squash? \nKevin will show knife styles\, cutting techniques and display how they’re used.
URL:https://www.coitmarket.org/event/february-18th-1100-am-choosing-a-knife-for-food-prep-by-kevin-scheuring/
LOCATION:Coit Road Farmers Market\, 15000 Woodworth Ave.\, East Cleveland\, OH\, 44110\, United States
ORGANIZER;CN="Kevin Scheuring":MAILTO:coit.twitter2@gmail.com
END:VEVENT
END:VCALENDAR