BEGIN:VCALENDAR
VERSION:2.0
PRODID:-//Coit Road Farmers Market - ECPv6.15.20//NONSGML v1.0//EN
CALSCALE:GREGORIAN
METHOD:PUBLISH
X-WR-CALNAME:Coit Road Farmers Market
X-ORIGINAL-URL:https://www.coitmarket.org
X-WR-CALDESC:Events for Coit Road Farmers Market
REFRESH-INTERVAL;VALUE=DURATION:PT1H
X-Robots-Tag:noindex
X-PUBLISHED-TTL:PT1H
BEGIN:VTIMEZONE
TZID:UTC
BEGIN:STANDARD
TZOFFSETFROM:+0000
TZOFFSETTO:+0000
TZNAME:UTC
DTSTART:20210101T000000
END:STANDARD
END:VTIMEZONE
BEGIN:VEVENT
DTSTART;TZID=UTC:20220813T100000
DTEND;TZID=UTC:20220813T130000
DTSTAMP:20260419T123911
CREATED:20220506T194831Z
LAST-MODIFIED:20221215T152426Z
UID:1262-1660384800-1660395600@www.coitmarket.org
SUMMARY:Care-A-Van by Food Strong at the Market
DESCRIPTION:Get connected to community resources\, health screenings\, arts\, fitness\, music\, a free healthy snack and so much more!   The second Saturday of each month May through October.
URL:https://www.coitmarket.org/event/care-a-van-by-food-strong-at-the-market/
LOCATION:Coit Road Farmers Market\, 15000 Woodworth Ave.\, East Cleveland\, OH\, 44110\, United States
ORGANIZER;CN="Sally Gabra":MAILTO:sally@foodstrong.org
END:VEVENT
END:VCALENDAR