BEGIN:VCALENDAR
VERSION:2.0
PRODID:-//Coit Road Farmers Market - ECPv6.15.20//NONSGML v1.0//EN
CALSCALE:GREGORIAN
METHOD:PUBLISH
X-WR-CALNAME:Coit Road Farmers Market
X-ORIGINAL-URL:https://www.coitmarket.org
X-WR-CALDESC:Events for Coit Road Farmers Market
REFRESH-INTERVAL;VALUE=DURATION:PT1H
X-Robots-Tag:noindex
X-PUBLISHED-TTL:PT1H
BEGIN:VTIMEZONE
TZID:UTC
BEGIN:STANDARD
TZOFFSETFROM:+0000
TZOFFSETTO:+0000
TZNAME:UTC
DTSTART:20210101T000000
END:STANDARD
END:VTIMEZONE
BEGIN:VEVENT
DTSTART;TZID=UTC:20220423T110000
DTEND;TZID=UTC:20220423T120000
DTSTAMP:20260419T135540
CREATED:20211111T215248Z
LAST-MODIFIED:20211111T215248Z
UID:1078-1650711600-1650715200@www.coitmarket.org
SUMMARY:Ramp jam
DESCRIPTION:Learn how to use Ohio’s most popular foraged vegetable to make a sweet and savory jam. This jam is great on sharp cheese\, burgers\, crackers\, and more. This is like no jam you have ever had. You can use this recipe and replace ramps with garlic\, shallots\, chives\, or any other kind of allium.
URL:https://www.coitmarket.org/event/ramp-jam/
LOCATION:Coit Road Farmers Market\, 15000 Woodworth Ave.\, East Cleveland\, OH\, 44110\, United States
ATTACH;FMTTYPE=image/jpeg:https://www.coitmarket.org/wp-content/uploads/2021/11/ramp-jam.jpeg
ORGANIZER;CN="Ursula McVey":MAILTO:ursulamcvey@gmail.com
END:VEVENT
END:VCALENDAR