BEGIN:VCALENDAR
VERSION:2.0
PRODID:-//Coit Road Farmers Market - ECPv6.15.20//NONSGML v1.0//EN
CALSCALE:GREGORIAN
METHOD:PUBLISH
X-ORIGINAL-URL:https://www.coitmarket.org
X-WR-CALDESC:Events for Coit Road Farmers Market
REFRESH-INTERVAL;VALUE=DURATION:PT1H
X-Robots-Tag:noindex
X-PUBLISHED-TTL:PT1H
BEGIN:VTIMEZONE
TZID:UTC
BEGIN:STANDARD
TZOFFSETFROM:+0000
TZOFFSETTO:+0000
TZNAME:UTC
DTSTART:20210101T000000
END:STANDARD
END:VTIMEZONE
BEGIN:VEVENT
DTSTART;TZID=UTC:20220416T110000
DTEND;TZID=UTC:20220416T120000
DTSTAMP:20260419T141655
CREATED:20211111T214150Z
LAST-MODIFIED:20220413T181437Z
UID:1075-1650106800-1650110400@www.coitmarket.org
SUMMARY:Lithuanian Napoleonas Torte
DESCRIPTION:Many many layers of cracker-like wafers are layered with a custardy butter filling in this traditional Lithuanian cake that I always make for Easter. This cake is a lot of work and getting the dough and filling right is tricky.
URL:https://www.coitmarket.org/event/cleveland-style-cassata-cake/
LOCATION:Coit Road Farmers Market\, 15000 Woodworth Ave.\, East Cleveland\, OH\, 44110\, United States
ATTACH;FMTTYPE=image/jpeg:https://www.coitmarket.org/wp-content/uploads/2021/11/napoleonas.jpeg
ORGANIZER;CN="Ursula McVey":MAILTO:ursulamcvey@gmail.com
END:VEVENT
BEGIN:VEVENT
DTSTART;TZID=UTC:20220416T110000
DTEND;TZID=UTC:20220416T123000
DTSTAMP:20260419T141655
CREATED:20220106T004758Z
LAST-MODIFIED:20220106T010000Z
UID:1165-1650106800-1650112200@www.coitmarket.org
SUMMARY:Make Your Own Art From the Garden
DESCRIPTION:Pick a fruit or vegetable to paint from the garden and learn about its role in healthy eating.\nAnyone looking for a fun hour of art experience can attend the Coit Road Farmers’ Market free arts event.  We’ll have the materials and information to both paint and learn more about a fruit or vegetable of your choice under the guidance of local artist Mary K Thomas.   You’ll learn about the benefits of your choice and how it fits eating healthy.  This event is supported by funding from the Cuyahoga Arts Council. \n 
URL:https://www.coitmarket.org/event/make-your-own-art-from-the-garden/
LOCATION:Coit Road Farmers Market\, 15000 Woodworth Ave.\, East Cleveland\, OH\, 44110\, United States
END:VEVENT
END:VCALENDAR